BEGIN:VCALENDAR
VERSION:2.0
PRODID:-//185.194.90.9//NONSGML kigkonsult.se iCalcreator 2.20//
CALSCALE:GREGORIAN
METHOD:PUBLISH
X-WR-TIMEZONE:UTC
BEGIN:VEVENT
UID:event2780@thesourcemag.net
DTSTAMP:20260424T084233Z
CATEGORIES:Music
DESCRIPTION:THE ISLAND EXPERIMENT\nCategory: Music\nLink: https://www.theso
 urcemag.net/index.php?option=com_jem&view=event&id=2780:the-island-experim
 ent\n
DTSTART:20250430T190000Z
DTEND:20250521T190000Z
LOCATION:Paradise\,London W10 4AE\,W10 4AE London
SUMMARY:THE ISLAND EXPERIMENT
URL:https://www.thesourcemag.net/index.php?option=com_jem&view=event&id=278
 0:the-island-experiment
END:VEVENT
END:VCALENDAR
