BEGIN:VCALENDAR
VERSION:2.0
PRODID:-//185.194.90.9//NONSGML kigkonsult.se iCalcreator 2.20//
CALSCALE:GREGORIAN
METHOD:PUBLISH
X-WR-TIMEZONE:UTC
BEGIN:VEVENT
UID:event2287@thesourcemag.net
DTSTAMP:20260419T193550Z
CATEGORIES:Music
DESCRIPTION:GAZ'S ROCKIN BLUES CHRISTMAS SPECIAL\nCategory: Music\nLink: ht
 tps://www.thesourcemag.net/index.php?option=com_jem&view=event&id=2287:gaz
 -s-rockin-blues-christmas-special\n
DTSTART:20151211T210000Z
DTEND:20151212T030000Z
LOCATION:MODE Bar · Nightclub\,12 Acklam Rd\,W10 5QZ London\,United Kingdom
SUMMARY:GAZ'S ROCKIN BLUES CHRISTMAS SPECIAL
URL:https://www.thesourcemag.net/index.php?option=com_jem&view=event&id=228
 7:gaz-s-rockin-blues-christmas-special
END:VEVENT
END:VCALENDAR
