BEGIN:VCALENDAR
VERSION:2.0
PRODID:-//185.194.90.9//NONSGML kigkonsult.se iCalcreator 2.20//
CALSCALE:GREGORIAN
METHOD:PUBLISH
X-WR-TIMEZONE:UTC
BEGIN:VEVENT
UID:event2295@thesourcemag.net
DTSTAMP:20260419T193510Z
CATEGORIES:Arts\, Galleries & Exhibitions
DESCRIPTION:WHITE - Christmas Group Show\nCategory: Arts\, Galleries & Exhi
 bitions\nLink: https://www.thesourcemag.net/index.php?option=com_jem&view=
 event&id=2295:white-christmas-group-show\n
DTSTART:20151203T100000Z
DTEND:20151212T170000Z
LOCATION:Muse At 269\,London W11 1LR\,W11 1LR London\,United Kingdom
SUMMARY:WHITE - Christmas Group Show
URL:https://www.thesourcemag.net/index.php?option=com_jem&view=event&id=229
 5:white-christmas-group-show
END:VEVENT
BEGIN:VEVENT
UID:event2286@thesourcemag.net
DTSTAMP:20260419T193510Z
CATEGORIES:Arts\, Galleries & Exhibitions
DESCRIPTION:The Road To Mount Helicon No. 3\nCategory: Arts\, Galleries & E
 xhibitions\nLink: https://www.thesourcemag.net/index.php?option=com_jem&vi
 ew=event&id=2286:the-road-to-mount-helicon-no-3\n
DTSTART:20151211T193000Z
DTEND:20151211T193000Z
LOCATION:Muse At 269\,London W11 1LR\,W11 1LR London\,United Kingdom
SUMMARY:The Road To Mount Helicon No. 3
URL:https://www.thesourcemag.net/index.php?option=com_jem&view=event&id=228
 6:the-road-to-mount-helicon-no-3
END:VEVENT
BEGIN:VEVENT
UID:event2298@thesourcemag.net
DTSTAMP:20260419T193510Z
CATEGORIES:Arts\, Galleries & Exhibitions
DESCRIPTION:Sir Christopher Frayling will be signing copies of The 2001 Fil
 e.\nCategory: Arts\, Galleries & Exhibitions\nLink: https://www.thesourcem
 ag.net/index.php?option=com_jem&view=event&id=2298:sir-christopher-fraylin
 g-will-be-signing-copies-of-the-2001-file\n
DTSTART:20151216T180000Z
DTEND:20151216T200000Z
LOCATION:Graffik Gallery\,284 Portobello Road\,W10 5TE London\,United Kingd
 om
SUMMARY:Sir Christopher Frayling will be signing copies of The 2001 File.
URL:https://www.thesourcemag.net/index.php?option=com_jem&view=event&id=229
 8:sir-christopher-frayling-will-be-signing-copies-of-the-2001-file
END:VEVENT
END:VCALENDAR
