BEGIN:VCALENDAR
VERSION:2.0
PRODID:-//185.194.90.9//NONSGML kigkonsult.se iCalcreator 2.20//
CALSCALE:GREGORIAN
METHOD:PUBLISH
X-WR-TIMEZONE:UTC
BEGIN:VEVENT
UID:event2294@thesourcemag.net
DTSTAMP:20260419T193509Z
CATEGORIES:Other
DESCRIPTION:Kensal Rise Launch: 'The Chevalier'\nCategory: Other\nLink: htt
 ps://www.thesourcemag.net/index.php?option=com_jem&view=event&id=2294:kens
 al-rise-launch-the-chevalier\n
DTSTART:20151207T180000Z
DTEND:20151207T210000Z
LOCATION: The Whippet Inn\,64-66 CHAMBERLAYNE ROAD\,NW10 3JJ London\,United
  Kingdom
SUMMARY:Kensal Rise Launch: 'The Chevalier'
URL:https://www.thesourcemag.net/index.php?option=com_jem&view=event&id=229
 4:kensal-rise-launch-the-chevalier
END:VEVENT
END:VCALENDAR
